BEGIN:VCALENDAR
VERSION:2.0
PRODID:-//ANEIL - ECPv6.15.20//NONSGML v1.0//EN
CALSCALE:GREGORIAN
METHOD:PUBLISH
X-WR-CALNAME:ANEIL
X-ORIGINAL-URL:https://aneil.lu
X-WR-CALDESC:Veranstaltungen für ANEIL
REFRESH-INTERVAL;VALUE=DURATION:PT1H
X-Robots-Tag:noindex
X-PUBLISHED-TTL:PT1H
BEGIN:VTIMEZONE
TZID:Europe/Luxembourg
BEGIN:DAYLIGHT
TZOFFSETFROM:+0100
TZOFFSETTO:+0200
TZNAME:CEST
DTSTART:20250330T010000
END:DAYLIGHT
BEGIN:STANDARD
TZOFFSETFROM:+0200
TZOFFSETTO:+0100
TZNAME:CET
DTSTART:20251026T010000
END:STANDARD
BEGIN:DAYLIGHT
TZOFFSETFROM:+0100
TZOFFSETTO:+0200
TZNAME:CEST
DTSTART:20260329T010000
END:DAYLIGHT
BEGIN:STANDARD
TZOFFSETFROM:+0200
TZOFFSETTO:+0100
TZNAME:CET
DTSTART:20261025T010000
END:STANDARD
BEGIN:DAYLIGHT
TZOFFSETFROM:+0100
TZOFFSETTO:+0200
TZNAME:CEST
DTSTART:20270328T010000
END:DAYLIGHT
BEGIN:STANDARD
TZOFFSETFROM:+0200
TZOFFSETTO:+0100
TZNAME:CET
DTSTART:20271031T010000
END:STANDARD
END:VTIMEZONE
BEGIN:VEVENT
DTSTART;TZID=Europe/Luxembourg:20260529T133000
DTEND;TZID=Europe/Luxembourg:20260529T220000
DTSTAMP:20260420T213400
CREATED:20260414T155906Z
LAST-MODIFIED:20260414T160139Z
UID:9068-1780061400-1780092000@aneil.lu
SUMMARY:Visitte Cern
DESCRIPTION:Léif ANEIL Memberen\, \nmir invitéieren iech häerzlech op eng eenzegaarteg Visitt beim CERN zu Genève – ee vun de bedeitendste Fuerschungszentren op der Welt. \nDe Conseil Européen pour la Recherche Nucléaire\, kuerz CERN\, ass virun allem bekannt fir den Large Hadron Collider (LHC)\, de gréisste Partikelbeschleuneger op der Welt. Hei gouf ënner anerem den Higgs-Boson nogewisen – eng wichteg Entdeckung fir d’Verständnis vum Universum. \nKommt mat a kritt en exklusiven Abléck an d’Welt vun der moderner Physik\, innovativer Technologie a weltwäiter Zesummenaarbecht. \n\nWat erwaart iech bei der Visitt? \n\nPresentatioun vum CERN an senge Fuerschungsberäicher\nAbléck an d’Aarbecht ronderëm Partikelphysik an High-Tech-Infrastrukturen\nSpannend Erklärungen zum LHC an aner Experimenter\nMéiglechkeet Froen un Expert*innen ze stellen\n\n\nPraktesch Informatiounen: \n📅 Datum: 29. Mee 2026 \n🕒 Rendez-vous: 13:30 Auer \n📍 Standuert: \n     Visitor Reception \n    CERN Community Support – Science Gateway \n    Esplanade des Particules \n    1217 Meyrin (Schwäiz) \n🚗 Transport: \nDen Transport muss jidderee selwer organiséieren. Mir recommandéieren Covoiturage – eng WhatsApp-Grupp gëtt nach organiséiert. \n🛏️ Iwwernuechtung: \nBei Bedarf kucke mir no Schlofméiglechkeeten bei eise Kollegen zu Zürich. \n🍻 No der Visitt: \nAm Uschloss gi mir nach eppes zesummen drénken – d’ANEIL gëtt e Patt! \n👉 D’Plaze si limitéiert – mellt iech also séier un iwwer dëse Link\, wann dir dobäi wëllt sinn. \nMir freeën eis op eng spannend an aussergewéinlech Visitt mat Iech! 🚀 \nÄre ANEIL Comité 🧡
URL:https://aneil.lu/event/visitte-cern
LOCATION:CERN\, Esplanade des Particules\, Meyrin\, 1217\, Switzerland
ATTACH;FMTTYPE=image/webp:https://aneil.lu/wp-content/uploads/2026/04/P_Culturel_Cern_Cern3-1920x960-1-scaled.webp
END:VEVENT
END:VCALENDAR