BEGIN:VCALENDAR
VERSION:2.0
PRODID:-//ANEIL - ECPv6.15.20//NONSGML v1.0//EN
CALSCALE:GREGORIAN
METHOD:PUBLISH
X-WR-CALNAME:ANEIL
X-ORIGINAL-URL:https://aneil.lu
X-WR-CALDESC:Veranstaltungen für ANEIL
REFRESH-INTERVAL;VALUE=DURATION:PT1H
X-Robots-Tag:noindex
X-PUBLISHED-TTL:PT1H
BEGIN:VTIMEZONE
TZID:Europe/Luxembourg
BEGIN:DAYLIGHT
TZOFFSETFROM:+0100
TZOFFSETTO:+0200
TZNAME:CEST
DTSTART:20250330T010000
END:DAYLIGHT
BEGIN:STANDARD
TZOFFSETFROM:+0200
TZOFFSETTO:+0100
TZNAME:CET
DTSTART:20251026T010000
END:STANDARD
BEGIN:DAYLIGHT
TZOFFSETFROM:+0100
TZOFFSETTO:+0200
TZNAME:CEST
DTSTART:20260329T010000
END:DAYLIGHT
BEGIN:STANDARD
TZOFFSETFROM:+0200
TZOFFSETTO:+0100
TZNAME:CET
DTSTART:20261025T010000
END:STANDARD
BEGIN:DAYLIGHT
TZOFFSETFROM:+0100
TZOFFSETTO:+0200
TZNAME:CEST
DTSTART:20270328T010000
END:DAYLIGHT
BEGIN:STANDARD
TZOFFSETFROM:+0200
TZOFFSETTO:+0100
TZNAME:CET
DTSTART:20271031T010000
END:STANDARD
END:VTIMEZONE
BEGIN:VEVENT
DTSTART;TZID=Europe/Luxembourg:20260423T180000
DTEND;TZID=Europe/Luxembourg:20260423T200000
DTSTAMP:20260420T213209
CREATED:20260414T162325Z
LAST-MODIFIED:20260414T162325Z
UID:9083-1776967200-1776974400@aneil.lu
SUMMARY:Online Interview Cours
DESCRIPTION:Léiwen ANEIL-Member\, \nfir dass du optimal op deng Aarbechtsgespréicher virbereet bass\, bidde mir och dëst Joer erëm eisen “Interview”-Cours un. \nDe Cours gëtt vun Madamm Ries geleet\, déi der vläicht schonn aus dem CV-Check um Meeting kennt. Mat hirer Erfahrung gëtt si dir wäertvoll Tipps a konkret Strategien\, fir dech bei dengem nächste Interview ze iwwerzeegen. \n\nWat erwaart dech am Cours? \n\nVirbereedung op typesch Interview-Froen\nTipps fir eng souverän an authentesch Presentatioun\nDo’s & Don’ts beim Aarbechtsgespréich\nMéiglechkeet fir Froen ze stellen\n\n\nPraktesch Informatiounen: \n📅 Datum: 23. Abrëll \n🕒 Zäit: 18:00 – 20:00 Auer \n💻 Format: Online \n💸 Präis: Gratis fir ANEIL-Memberen \n👉 Mellt dech séier un iwwer dëse Link\, fir däi Platz ze sécheren! \nMir freeën eis\, dech dobäi ze hunn an dech optimal op deng nächst Interviewen virzebereeden 💼 \nDäin ANEIL Comité 🧡
URL:https://aneil.lu/event/online-interview-cours-2
ATTACH;FMTTYPE=image/jpeg:https://aneil.lu/wp-content/uploads/2026/04/infos-a-scanner-cv.jpg
END:VEVENT
END:VCALENDAR